BEGIN:VCALENDAR
VERSION:2.0
PRODID:-//ChamberMaster//Event Calendar 2.0//EN
METHOD:PUBLISH
X-PUBLISHED-TTL:P3D
REFRESH-INTERVAL:P3D
CALSCALE:GREGORIAN
BEGIN:VEVENT
DTSTART:20230401T120000Z
DTEND:20230401T160000Z
X-MICROSOFT-CDO-ALLDAYEVENT:FALSE
SUMMARY:2023 Fight For Air Climb
DESCRIPTION:The Premier Stair-Climbing Event in Tampa is back at the Bank of America Plaza!\n\nOur Fight For Air Climb is designed for every type of climber\, from beginners to competitive climbers.\n\nHow you climb is up to you: race to the top or take it at your own speed.\n\nAssemble your crew: for the best Climb experience\, form a team of friends and family\, coworkers or neighbors.
X-ALT-DESC;FMTTYPE=text/html:<div>\n<h2>The Premier Stair-Climbing Event in Tampa is back at the Bank of America Plaza!</h2>\n\n<p>Our Fight For Air Climb is designed for every type of climber\, from beginners to competitive climbers.</p>\n\n<p>How you climb is up to you: race to the top or take it at your own speed.</p>\n\n<p>Assemble your crew: for the best Climb experience\,&nbsp\;<a href="https://action.lung.org/site/TRR?fr_tm_opt=new&amp\;pg=tfind&amp\;fr_id=23558" style="box-sizing: inherit\; outline: none\; background-color: transparent\; color: rgb(0\, 100\, 255)\; word-break: break-word\; overflow-wrap: break-word\; padding-bottom: 1px\; font-size: inherit\;">form a team of friends and family\, coworkers or neighbors</a>.</p>\n\n<div>&nbsp\;</div>\n</div>\n\n<div>\n<div>&nbsp\;</div>\n</div>\n
LOCATION:Bank of America Plaza 101 E Kennedy Blvd\, Tampa\, FL 33602
UID:e.327.39063
SEQUENCE:3
DTSTAMP:20260420T061525Z
URL:https://business.southtampachamber.org/events/details/2023-fight-for-air-climb-39063
END:VEVENT

END:VCALENDAR
