BEGIN:VCALENDAR
VERSION:2.0
PRODID:-//ChamberMaster//Event Calendar 2.0//EN
METHOD:PUBLISH
X-PUBLISHED-TTL:P3D
REFRESH-INTERVAL:P3D
CALSCALE:GREGORIAN
BEGIN:VEVENT
DTSTART:20221126T150000Z
DTEND:20221126T190000Z
X-MICROSOFT-CDO-ALLDAYEVENT:FALSE
SUMMARY:Midtown Tampa Sunshine Market
DESCRIPTION:Midtown Tampa's Sunshine Markets will be held the fourth Saturday of every month from 10 a.m. to 2 p.m. in Midtown Commons.\n\n \n\nShop with more than 40 local makers\, including producers of local agriculture\, take home foods\, baked goods\, art\, jewelry and more!\n\n \n\n	Live music starts at 10 a.m. on the green. \n	Pups are welcome at this dog-friendly event.\n	Parking is in the Waterview Garage at Midtown.\n\n \n\nLocal vendors can apply at https://forms.gle/fytQsomSPMLqeqEZ6.\n\n \n\nOrganized by Tampa Bay Markets (http://www.tampabaymarkets.com/).
X-ALT-DESC;FMTTYPE=text/html:<span style="font-family:helvetica"><span style="font-size:10.0pt">Midtown Tampa&rsquo\;s Sunshine Markets will be held the fourth Saturday of every month from 10 a.m. to 2 p.m. in Midtown Commons.</span></span><br />\n&nbsp\;<br />\n<span style="font-family:helvetica"><span style="font-size:10.0pt">Shop with more than 40 local makers\, including producers of local agriculture\, take home foods\, baked goods\, art\, jewelry and more!</span></span><br />\n&nbsp\;\n<ul>\n	<li><span style="font-family:helvetica"><span style="font-size:10.0pt">Live music starts at 10 a.m. on the green. </span></span></li>\n	<li><span style="font-family:helvetica"><span style="font-size:10.0pt">Pups are welcome at this dog-friendly event.</span></span></li>\n	<li><span style="font-family:helvetica"><span style="font-size:10.0pt">Parking is in the Waterview Garage at Midtown.</span></span></li>\n</ul>\n&nbsp\;<br />\n<span style="font-family:helvetica"><span style="font-size:10.0pt">Local vendors can apply at </span></span><a href="https://forms.gle/fytQsomSPMLqeqEZ6"><span style="font-family:helvetica"><span style="font-size:10.0pt">https://forms.gle/fytQsomSPMLqeqEZ6</span></span></a><span style="font-family:helvetica"><span style="font-size:10.0pt">.</span></span><br />\n&nbsp\;<br />\n<span style="font-family:helvetica"><span style="font-size:10.0pt">Organized by Tampa Bay Markets (</span></span><a href="http://www.tampabaymarkets.com/"><span style="font-family:helvetica"><span style="font-size:10.0pt">http://www.tampabaymarkets.com/</span></span></a><span style="font-family:helvetica"><span style="font-size:10.0pt">).</span></span>
LOCATION:3650 Midtown Drive\; Tampa\, FL 33607
UID:e.327.37868
SEQUENCE:3
DTSTAMP:20260420T150503Z
URL:https://business.southtampachamber.org/events/details/midtown-tampa-sunshine-market-11-26-2022-37868
END:VEVENT

END:VCALENDAR
