BEGIN:VCALENDAR
VERSION:2.0
PRODID:-//ChamberMaster//Event Calendar 2.0//EN
METHOD:PUBLISH
X-PUBLISHED-TTL:P3D
REFRESH-INTERVAL:P3D
CALSCALE:GREGORIAN
BEGIN:VEVENT
DTSTART:20260426T200000Z
DTEND:20260426T210000Z
X-MICROSOFT-CDO-ALLDAYEVENT:FALSE
SUMMARY:The Joy of Line Dancing!
DESCRIPTION:JOIN US! REAL PEOPLE!   REAL FUN! \n\nBring your friends   Bring your family   Bring real people! \n\nWhat: Line Dancing\n\nWhere: Christ the King Carnival 821 South Dale Mabry Hwy\, Tampa\, FL\n\nWhen: Sunday\, April 26\, 2026   4:00 PM\n\nLocation: The Pavilion\n\nCost: Free   Value: Priceless! "Keep on Movin!"
X-ALT-DESC;FMTTYPE=text/html:<div style="text-align: center\;"><strong><span style="background-color:rgb(255\, 255\, 255)\; color:rgb(8\, 8\, 9)\; font-family:system-ui\,-apple-system\,system-ui\,.sfnstext-regular\,sans-serif\; font-size:15px">JOIN US! REAL PEOPLE! &bull\; REAL FUN!&nbsp\;</span></strong></div>\n\n<div style="text-align: center\;"><strong><span style="background-color:rgb(255\, 255\, 255)\; color:rgb(8\, 8\, 9)\; font-family:system-ui\,-apple-system\,system-ui\,.sfnstext-regular\,sans-serif\; font-size:15px">Bring your friends &bull\; Bring your family &bull\; Bring real people!&nbsp\;</span></strong></div>\n\n<div style="text-align: center\;"><strong><span style="background-color:rgb(255\, 255\, 255)\; color:rgb(8\, 8\, 9)\; font-family:system-ui\,-apple-system\,system-ui\,.sfnstext-regular\,sans-serif\; font-size:15px">What: Line Dancing<br />\nWhere: Christ the King Carnival 821 South Dale Mabry Hwy\, Tampa\, FL<br />\nWhen: Sunday\, April 26\, 2026 &bull\; 4:00 PM<br />\nLocation: The Pavilion<br />\nCost: Free &bull\; Value: Priceless! &ldquo\;Keep on Movin!&rdquo\;</span></strong></div>\n
LOCATION:
UID:e.327.42293
SEQUENCE:3
DTSTAMP:20260420T211146Z
URL:https://business.southtampachamber.org/events/details/the-joy-of-line-dancing-04-26-2026-42293
END:VEVENT

END:VCALENDAR
